BEGIN:VCALENDAR
PRODID:-//Hannon Hill Events//Cascade CMS//EN
VERSION:2.0
X-WR-CALNAME:DesignPLUS Your Courses With Reynolds Canvas Templates
X-WR-TIMEZONE:America/New_York
BEGIN:VTIMEZONE
TZID:America/New_York
BEGIN:DAYLIGHT
TZOFFSETFROM:-0500
TZOFFSETTO:-0400
TZNAME:EDT
DTSTART:19700308T020000
RRULE:FREQ=YEARLY;BYMONTH=3;BYDAY=2SU
END:DAYLIGHT
BEGIN:STANDARD
TZOFFSETFROM:-0400
TZOFFSETTO:-0500
TZNAME:EST
DTSTART:19701101T020000
RRULE:FREQ=YEARLY;BYMONTH=11;BYDAY=1SU
END:STANDARD
END:VTIMEZONE
BEGIN:VEVENT
DTSTART:20251008T140000
DTEND:20251008T150000
DTSTAMP:20260423T082758
UID:a9adc7ee0a0000fe72eddfd4c8c2f241
CREATED:20250814T134315
DESCRIPTION:Explore the Reynolds Canvas Templates and learn to design prof essional\, engaging courses with the new DesignPLUS Sidebar for Canvas\, u pdated March 2025.
LAST-MODIFIED:20250815T082918
SEQUENCE:0
STATUS:CONFIRMED
SUMMARY:DesignPLUS Your Courses With Reynolds Canvas Templates
TRANSP:OPAQUE
END:VEVENT
END:VCALENDAR
