BEGIN:VCALENDAR
PRODID:-//Hannon Hill Events//Cascade CMS//EN
VERSION:2.0
X-WR-CALNAME:Before VA Votes
X-WR-TIMEZONE:America/New_York
BEGIN:VTIMEZONE
TZID:America/New_York
BEGIN:DAYLIGHT
TZOFFSETFROM:-0500
TZOFFSETTO:-0400
TZNAME:EDT
DTSTART:19700308T020000
RRULE:FREQ=YEARLY;BYMONTH=3;BYDAY=2SU
END:DAYLIGHT
BEGIN:STANDARD
TZOFFSETFROM:-0400
TZOFFSETTO:-0500
TZNAME:EST
DTSTART:19701101T020000
RRULE:FREQ=YEARLY;BYMONTH=11;BYDAY=1SU
END:STANDARD
END:VTIMEZONE
BEGIN:VEVENT
DTSTART:20251007T180000
DTEND:20251007T191500
DTSTAMP:20260423T082727
UID:5def8c3a0a0000fe5688ec05eec124f3
CREATED:20250918T134644
DESCRIPTION:Join us for an evening of civic engagement and learn about Vir ginia politics and government from the non-partisan Virginia Public Access  Project.
LAST-MODIFIED:20251001T123451
SEQUENCE:0
STATUS:CONFIRMED
SUMMARY:Before VA Votes
TRANSP:OPAQUE
END:VEVENT
END:VCALENDAR
